BEGIN:VCALENDAR
VERSION:2.0
PRODID:-//wp-events-plugin.com//7.2.3.1//EN
TZID:Europe/Amsterdam
X-WR-TIMEZONE:Europe/Amsterdam
BEGIN:VEVENT
UID:42@cosshoot.nl
DTSTART;TZID=Europe/Amsterdam;VALUE=DATE:20260807
DTEND;TZID=Europe/Amsterdam;VALUE=DATE:20260810
DTSTAMP:20260109T094315Z
URL:https://cosshoot.nl/events/abunai/
SUMMARY:Abunai
DESCRIPTION:\n\nThe Netherlands’ cheekiest anime convention\n\n\n\n\nAbun
 ai! 2026: Case Closed is our 22nd edition! Enjoy the best of Japanese pop
  &amp\; traditional culture with our events\, competitions\, cosplay\, gam
 es\, merchandise\, art\, music\, AMVs\, very own matsuri &amp\; oh\, so mu
 ch more~\nMore info at:https://abunaicon.nl\n\n
ATTACH;FMTTYPE=image/jpeg:https://cosshoot.nl/wp-content/uploads/2026/01/i
 mage_2026-01-09_104111354.png
CATEGORIES:Abunai,Conventions
LOCATION:NH Koningshof\,  Locht 117\, Veldhoven\, Netherlands
X-APPLE-STRUCTURED-LOCATION;VALUE=URI;X-ADDRESS= Locht 117\, Veldhoven\, Ne
 therlands;X-APPLE-RADIUS=100;X-TITLE=NH Koningshof:geo:0,0
END:VEVENT
BEGIN:VTIMEZONE
TZID:Europe/Amsterdam
X-LIC-LOCATION:Europe/Amsterdam
BEGIN:DAYLIGHT
DTSTART:20260329T030000
TZOFFSETFROM:+0100
TZOFFSETTO:+0200
TZNAME:CEST
END:DAYLIGHT
END:VTIMEZONE
END:VCALENDAR