BEGIN:VCALENDAR
VERSION:2.0
PRODID:-//wp-events-plugin.com//7.2.3.1//EN
TZID:Europe/Amsterdam
X-WR-TIMEZONE:Europe/Amsterdam
BEGIN:VEVENT
UID:41@cosshoot.nl
DTSTART;TZID=Europe/Amsterdam;VALUE=DATE:20260417
DTEND;TZID=Europe/Amsterdam;VALUE=DATE:20260420
DTSTAMP:20260109T093513Z
URL:https://cosshoot.nl/events/animecon/
SUMMARY:Animecon
DESCRIPTION:\n\nAbout Us\n\n\n\n\nAnimeCon is the longest running anime con
 vention of The Netherlands. Volunteers organise AnimeCon.\nAnimeCon.nl is 
 the website for Holland's largest annual anime festival. What does that me
 an you ask? Well\, it's a three-day gathering of fans with a focus on Japa
 nse animation. What it basically comes down to is that you can join a grou
 p of people of all ages and enjoy a nice atmosphere in which you can enjoy
  movies\, play video games\, and learn about Japan and its culture. Our fe
 stival focuses on having fun and learning new things.We try to add the ext
 ra impulse to our event by actually portraying parts of the Japanese (popu
 lar) culture. Our mission is to let you have a lot of fun and give you a c
 hance to learn something new.Animations produced in Japan is for all age g
 roups. Any genre or influence you can think of that appears in a Hollywood
  production can also be found in anime. This\, amongst a bunch of other th
 ings\, is what makes the Japanese produced animation so interesting. If yo
 u have not seen any 'anime' before\, be sure to come and visit us to check
  out this phenomenon. Be there\, be amazed\, and become a fan!\n\nMore inf
 o at:https://animecon.nl/nl/\n
ATTACH;FMTTYPE=image/jpeg:https://cosshoot.nl/wp-content/uploads/2026/01/i
 mage_2026-01-09_103150634.png
CATEGORIES:Animecon,Conventions
LOCATION:De Broodfabriek\, Volmerlaan 12\, Rijswijk\, Netherlands
X-APPLE-STRUCTURED-LOCATION;VALUE=URI;X-ADDRESS=Volmerlaan 12\, Rijswijk\, 
 Netherlands;X-APPLE-RADIUS=100;X-TITLE=De Broodfabriek:geo:0,0
END:VEVENT
BEGIN:VTIMEZONE
TZID:Europe/Amsterdam
X-LIC-LOCATION:Europe/Amsterdam
BEGIN:DAYLIGHT
DTSTART:20260329T030000
TZOFFSETFROM:+0100
TZOFFSETTO:+0200
TZNAME:CEST
END:DAYLIGHT
END:VTIMEZONE
END:VCALENDAR