BEGIN:VCALENDAR
VERSION:2.0
PRODID:-//wp-events-plugin.com//7.2.3.1//EN
TZID:Europe/Amsterdam
X-WR-TIMEZONE:Europe/Amsterdam
BEGIN:VEVENT
UID:40@cosshoot.nl
DTSTART;TZID=Europe/Amsterdam:20260509T100000
DTEND;TZID=Europe/Amsterdam:20260510T190000
DTSTAMP:20260109T093529Z
URL:https://cosshoot.nl/events/comic-con-holland-2/
SUMMARY:Comic Con Holland
DESCRIPTION:Comic Con Holland is hét event in Nederland voor alle echte fa
 ns en liefhebbers van Comics\, Manga\, Cosplay\, Gaming\, Films\, Series\,
  Sci-Fi\, Fantasy en meer.\nOntsnap naar een magische wereld\, een ultieme
  Geek-ervaring met wereldbekende ster gasten om te ontmoeten en een enorme
  Geek Market om gezellig te shoppen\;\nMaar tevens boeiende workshops\, Q&
 amp\;A’s en lezingen maar je kan er ook gewoon gamen en genieten van de 
 vele wedstrijden en optredens.\nBovenal is het het uitgelezen moment om vr
 ienden te maken en een gezellige dag te beleven met andere fans.\nKom op N
 ederland\, Get Your Geek On!\nMeer info: https://comicconholland.nl
ATTACH;FMTTYPE=image/jpeg:https://cosshoot.nl/wp-content/uploads/2026/01/i
 mage_2026-01-09_102232847.png
CATEGORIES:Comic Con Holland,Conventions
LOCATION:Brabanthallen\, Diezekade 2\, ’s Hertogenbosch\, Netherlands
X-APPLE-STRUCTURED-LOCATION;VALUE=URI;X-ADDRESS=Diezekade 2\, ’s Hertogen
 bosch\, Netherlands;X-APPLE-RADIUS=100;X-TITLE=Brabanthallen:geo:0,0
END:VEVENT
BEGIN:VTIMEZONE
TZID:Europe/Amsterdam
X-LIC-LOCATION:Europe/Amsterdam
BEGIN:DAYLIGHT
DTSTART:20260329T030000
TZOFFSETFROM:+0100
TZOFFSETTO:+0200
TZNAME:CEST
END:DAYLIGHT
END:VTIMEZONE
END:VCALENDAR