BEGIN:VCALENDAR
VERSION:2.0
PRODID:-//wp-events-plugin.com//7.2.3.1//EN
TZID:Europe/Amsterdam
X-WR-TIMEZONE:Europe/Amsterdam
BEGIN:VEVENT
UID:12@cosshoot.nl
DTSTART;TZID=Europe/Amsterdam;VALUE=DATE:20251011
DTEND;TZID=Europe/Amsterdam;VALUE=DATE:20251013
DTSTAMP:20250904T100616Z
URL:https://cosshoot.nl/events/comic-con-holland/
SUMMARY:Comic Con Holland
DESCRIPTION:
CATEGORIES:Comic Con Holland
LOCATION:https://comicconholland.nl/en/homepage-en/?utm_source=rostercon.co
 m&utm_campaign=rostercon.com&utm_medium=website
END:VEVENT
BEGIN:VTIMEZONE
TZID:Europe/Amsterdam
X-LIC-LOCATION:Europe/Amsterdam
BEGIN:DAYLIGHT
DTSTART:20250330T030000
TZOFFSETFROM:+0100
TZOFFSETTO:+0200
TZNAME:CEST
END:DAYLIGHT
END:VTIMEZONE
END:VCALENDAR