BEGIN:VCALENDAR
VERSION:2.0
PRODID:-//wp-events-plugin.com//7.2.3.1//EN
TZID:Europe/Amsterdam
X-WR-TIMEZONE:Europe/Amsterdam
BEGIN:VEVENT
UID:39@cosshoot.nl
DTSTART;TZID=Europe/Amsterdam;VALUE=DATE:20260529
DTEND;TZID=Europe/Amsterdam;VALUE=DATE:20260601
DTSTAMP:20260109T092011Z
URL:https://cosshoot.nl/events/dokomi/
SUMMARY:Dokomi
DESCRIPTION:\n\nYour Anime &amp\; Japan Expo!\n\n\nAt DoKomi in Düsseldorf
 \, you can experience a unique weekend that revolves entirely around anime
 \, manga\, games\, cosplay\, and Japan! Make new friends and immerse yours
 elf in a fascinating community where you can fully indulge your passion! W
 ith over 215\,000 visitors\, DoKomi is not only the most popular but also 
 the largest convention of its kind in Germany.\nMore info at:https://www.d
 okomi.de/en
ATTACH;FMTTYPE=image/jpeg:https://cosshoot.nl/wp-content/uploads/2026/01/i
 mage_2026-01-09_101853190.png
CATEGORIES:Conventions
LOCATION:Messe Dusseldorf\, Stockumer Kirchstrasse 61\, Dusseldorf\, German
 y
X-APPLE-STRUCTURED-LOCATION;VALUE=URI;X-ADDRESS=Stockumer Kirchstrasse 61\,
  Dusseldorf\, Germany;X-APPLE-RADIUS=100;X-TITLE=Messe Dusseldorf:geo:0,0
END:VEVENT
BEGIN:VTIMEZONE
TZID:Europe/Amsterdam
X-LIC-LOCATION:Europe/Amsterdam
BEGIN:DAYLIGHT
DTSTART:20260329T030000
TZOFFSETFROM:+0100
TZOFFSETTO:+0200
TZNAME:CEST
END:DAYLIGHT
END:VTIMEZONE
END:VCALENDAR