BEGIN:VCALENDAR
VERSION:2.0
PRODID:-//wp-events-plugin.com//7.2.3.1//EN
TZID:Europe/Amsterdam
X-WR-TIMEZONE:Europe/Amsterdam
BEGIN:VEVENT
UID:37@cosshoot.nl
DTSTART;TZID=Europe/Amsterdam:20260620T100000
DTEND;TZID=Europe/Amsterdam:20260621T180000
DTSTAMP:20260109T093730Z
URL:https://cosshoot.nl/events/dutch-comic-con-2/
SUMMARY:Dutch Comic Con
DESCRIPTION:For more info: visit https://www.dutchcomiccon.com/nl/
ATTACH;FMTTYPE=image/jpeg:https://cosshoot.nl/wp-content/uploads/2025/12/i
 mage_2025-12-22_175604073.png
CATEGORIES:Conventions,Dutch Comic Con
LOCATION:Jaarbeurs Utrecht\, Jaarbeursplein 6\, Utrecht\, Utrecht\, 3521 AL
 \, Utrecht\, Netherlands
X-APPLE-STRUCTURED-LOCATION;VALUE=URI;X-ADDRESS=Jaarbeursplein 6\, Utrecht\
 , Utrecht\, 3521 AL\, Utrecht\, Netherlands;X-APPLE-RADIUS=100;X-TITLE=Jaa
 rbeurs Utrecht:geo:0,0
END:VEVENT
BEGIN:VTIMEZONE
TZID:Europe/Amsterdam
X-LIC-LOCATION:Europe/Amsterdam
BEGIN:DAYLIGHT
DTSTART:20260329T030000
TZOFFSETFROM:+0100
TZOFFSETTO:+0200
TZNAME:CEST
END:DAYLIGHT
END:VTIMEZONE
END:VCALENDAR