BEGIN:VCALENDAR
VERSION:2.0
PRODID:-//wp-events-plugin.com//7.2.3.1//EN
TZID:Europe/Amsterdam
X-WR-TIMEZONE:Europe/Amsterdam
BEGIN:VEVENT
UID:26@cosshoot.nl
DTSTART;TZID=Europe/Amsterdam:20251122T000000
DTEND;TZID=Europe/Amsterdam:20251123T000000
DTSTAMP:20251117T172332Z
URL:https://cosshoot.nl/events/dutch-comic-con/
SUMMARY:Dutch Comic Con
DESCRIPTION:Find more info at: https://www.dutchcomiccon.com
CATEGORIES:Conventions,Dutch Comic Con
LOCATION:Jaarbeurs Utrecht\, Jaarbeursplein 6\, Utrecht\, Netherlands
X-APPLE-STRUCTURED-LOCATION;VALUE=URI;X-ADDRESS=Jaarbeursplein 6\, Utrecht\
 , Netherlands;X-APPLE-RADIUS=100;X-TITLE=Jaarbeurs Utrecht:geo:0,0
END:VEVENT
BEGIN:VTIMEZONE
TZID:Europe/Amsterdam
X-LIC-LOCATION:Europe/Amsterdam
BEGIN:STANDARD
DTSTART:20251026T020000
TZOFFSETFROM:+0200
TZOFFSETTO:+0100
TZNAME:CET
END:STANDARD
END:VTIMEZONE
END:VCALENDAR