BEGIN:VCALENDAR
VERSION:2.0
PRODID:-//wp-events-plugin.com//7.2.3.1//EN
TZID:Europe/Amsterdam
X-WR-TIMEZONE:Europe/Amsterdam
BEGIN:VEVENT
UID:38@cosshoot.nl
DTSTART;TZID=Europe/Amsterdam:20260321T100000
DTEND;TZID=Europe/Amsterdam:20260322T180000
DTSTAMP:20260109T093438Z
URL:https://cosshoot.nl/events/heroes-made-in-asia/
SUMMARY:Heroes Made in Asia
DESCRIPTION:Stap in de wereld van Aziatische popcultuur tijdens Heroes Made
  in Asia! Laat je meevoeren door de nieuwste anime en manga\, proef authen
 tieke Aziatische gerechten\, bewonder indrukwekkende cosplays en dompel je
  onder in de wereld van gaming en TCG. Of je nu komt om je idolen te ontmo
 eten\, workshops te volgen of simpelweg de sfeer te proeven. Dit is het ev
 ent waar fans samenkomen. Wees erbij en ervaar Azië van dichtbij!\nMeer i
 nfo hier: https://www.made-in-asia.nl/nl/
ATTACH;FMTTYPE=image/jpeg:https://cosshoot.nl/wp-content/uploads/2026/01/S
 creenshot-2026-01-09-101356.png
CATEGORIES:Conventions,Heroes Made in Asia
LOCATION:Jaarbeurs Utrecht\, Jaarbeursplein 6\, Utrecht\, Netherlands
X-APPLE-STRUCTURED-LOCATION;VALUE=URI;X-ADDRESS=Jaarbeursplein 6\, Utrecht\
 , Netherlands;X-APPLE-RADIUS=100;X-TITLE=Jaarbeurs Utrecht:geo:0,0
END:VEVENT
BEGIN:VTIMEZONE
TZID:Europe/Amsterdam
X-LIC-LOCATION:Europe/Amsterdam
BEGIN:STANDARD
DTSTART:20251026T020000
TZOFFSETFROM:+0200
TZOFFSETTO:+0100
TZNAME:CET
END:STANDARD
END:VTIMEZONE
END:VCALENDAR