BEGIN:VCALENDAR
VERSION:2.0
PRODID:-//wp-events-plugin.com//7.2.3.1//EN
TZID:Europe/Amsterdam
X-WR-TIMEZONE:Europe/Amsterdam
BEGIN:VEVENT
UID:36@cosshoot.nl
DTSTART;TZID=Europe/Amsterdam:20260620T100000
DTEND;TZID=Europe/Amsterdam:20260620T180000
DTSTAMP:20260122T112418Z
URL:https://cosshoot.nl/events/lol-spirit-blossom-au-cosgroup/
SUMMARY:LoL - Spirit Blossom AU cosgroup
DESCRIPTION:Spirit Blossom AU cosplay meetup for Summer Dutch Comic Con 
 🌸\n\nWe’ll be gathering on Saturday\, June 20th to celebrate the Spir
 it Blossom universe from League of Legends. Expect a relaxed group meetup 
 focused on enjoying the aesthetic\, taking photos\, and having fun togethe
 r.\n\nFor updates\, details\, and coordination info\, please check the Spi
 rit Blossom meetup highlight on my Instagram:https://www.instagram.com/lil
 iumdragomir/
ATTACH;FMTTYPE=image/jpeg:https://cosshoot.nl/wp-content/uploads/2025/12/s
 b-en.jpg
CATEGORIES:Dutch Comic Con,Meetups
LOCATION:Jaarbeurs Utrecht\, Jaarbeursplein 6\, Utrecht\, Utrecht\, 3521 AL
 \, Utrecht\, Netherlands
X-APPLE-STRUCTURED-LOCATION;VALUE=URI;X-ADDRESS=Jaarbeursplein 6\, Utrecht\
 , Utrecht\, 3521 AL\, Utrecht\, Netherlands;X-APPLE-RADIUS=100;X-TITLE=Jaa
 rbeurs Utrecht:geo:0,0
END:VEVENT
BEGIN:VTIMEZONE
TZID:Europe/Amsterdam
X-LIC-LOCATION:Europe/Amsterdam
BEGIN:DAYLIGHT
DTSTART:20260329T030000
TZOFFSETFROM:+0100
TZOFFSETTO:+0200
TZNAME:CEST
END:DAYLIGHT
END:VTIMEZONE
END:VCALENDAR