BEGIN:VCALENDAR
VERSION:2.0
PRODID:-//wp-events-plugin.com//7.2.3.1//EN
TZID:Europe/Amsterdam
X-WR-TIMEZONE:Europe/Amsterdam
BEGIN:VEVENT
UID:43@cosshoot.nl
DTSTART;TZID=Europe/Amsterdam:20260124T110000
DTEND;TZID=Europe/Amsterdam:20260124T180000
DTSTAMP:20260122T104410Z
URL:https://cosshoot.nl/events/prikkelarme-cosplay-con/
SUMMARY:Prikkelarme Cosplay Con
DESCRIPTION:Niet iedereen kan genieten van een reguliere Comic Con. Drukte\
 , harde geluiden en overprikkeling zorgen ervoor dat veel mensen zich daar
  niet op hun gemak of welkom voelen. Dat kan anders.\nDe Kleine Glimlach 
 Makerij organiseert – samen met heel veel betrokken vrijwilligers – ee
 n Prikkelarme Cosplay Con: een toegankelijk\, warm en inclusief evenement
  waar iedereen kan genieten van de Cosplay community\, en in het bijzond
 er mensen met een anders werkend lijf en/of brein.\nMeer info: https://de
 kleineglimlachmakerij.nl/activiteiten/
ATTACH;FMTTYPE=image/jpeg:https://cosshoot.nl/wp-content/uploads/2026/01/i
 mage.png
CATEGORIES:Conventions
LOCATION:Olympus College Arnhem\, Olympus 11\, Arnhem\, Gelderland\, 6832 E
 L\, Netherlands
X-APPLE-STRUCTURED-LOCATION;VALUE=URI;X-ADDRESS=Olympus 11\, Arnhem\, Gelde
 rland\, 6832 EL\, Netherlands;X-APPLE-RADIUS=100;X-TITLE=Olympus College A
 rnhem:geo:0,0
END:VEVENT
BEGIN:VTIMEZONE
TZID:Europe/Amsterdam
X-LIC-LOCATION:Europe/Amsterdam
BEGIN:STANDARD
DTSTART:20251026T020000
TZOFFSETFROM:+0200
TZOFFSETTO:+0100
TZNAME:CET
END:STANDARD
END:VTIMEZONE
END:VCALENDAR